BEGIN:VCALENDAR
VERSION:2.0
PRODID:-//Foodtruck-Festivals - ECPv5.0.2//NONSGML v1.0//EN
CALSCALE:GREGORIAN
METHOD:PUBLISH
X-WR-CALNAME:Foodtruck-Festivals
X-ORIGINAL-URL:https://www.foodtruck-festivals.de
X-WR-CALDESC:Veranstaltungen im Foodtruck-Festivals
BEGIN:VTIMEZONE
TZID:Europe/Berlin
BEGIN:DAYLIGHT
TZOFFSETFROM:+0100
TZOFFSETTO:+0200
TZNAME:CEST
DTSTART:20260329T010000
END:DAYLIGHT
BEGIN:STANDARD
TZOFFSETFROM:+0200
TZOFFSETTO:+0100
TZNAME:CET
DTSTART:20261025T010000
END:STANDARD
END:VTIMEZONE
BEGIN:VEVENT
DTSTART;TZID=Europe/Berlin:20260821T160000
DTEND;TZID=Europe/Berlin:20260823T190000
DTSTAMP:20260419T130905
CREATED:20260405T104511Z
LAST-MODIFIED:20260405T104511Z
UID:2157-1787328000-1787511600@www.foodtruck-festivals.de
SUMMARY:Food Truck Festival Imst 2026
DESCRIPTION:Imst\, mach dich bereit für ein kulinarisches Abenteuer der Extraklasse! Vom 21. bis 23. August verwandelt sich der Sparkassenplatz in das ultimative Foodtruck-Paradies – das Original Foodtruck Festival ist wieder am Start und bringt Streetfood aus aller Welt direkt zu dir. Neben den kulinarischen Highlights erwartet dich ein echtes Erlebnis! Genieße Live-Musik\, einen Familientag mit Henna Tattoos\, Kinderschminken mit Onirelia und eine große Hüpfburg – Spaß für die ganze Familie! Dazu eine Chillout-Area zum Relaxen\, coole Cocktails und vieles mehr.#foodtrucks #streetfood #entertainment #livemusik #party #food #drinks #festival\n\nÖffnungszeiten Freitag\, 21.08.26 | 16-22 Uhr Samstag\, 22.08.26 | 12-22 Uhr Sonntag\, 23.08.26 | 12-19 Uhr__________________\nLIVE BÜHNE In diesem Jahr versorgen wir euch mit Live DJs und diversen regionalen Bands und Solokünstlern!\n\n KINDERPROGRAMM Natürlich kommen Familien auch jenseits der Delikatessen auf ihre Kosten. Kinder können sich auf der Hüpfburg oder Trampolinen austoben. Für Raubkatzen bieten wir unser Kinderschminken an\, Henna Tattoos sind dann nicht nur für die Kleinen\, sondern auch Erwachsene möglich. Kleine Überraschungen gehören hier natürlich dazu.Ein Wochenende für Groß und Klein.\n
URL:https://www.foodtruck-festivals.de/event/food-truck-festival-imst-2026/
LOCATION:Sparkassenplatz\, Sparkassenplatz 1\, Imst\, 6460\, Österreich
ATTACH;FMTTYPE=image/jpeg:https://www.foodtruck-festivals.de/wp-content/uploads/2026/04/2026_Imst_HP.jpg
END:VEVENT
END:VCALENDAR