BEGIN:VCALENDAR
VERSION:2.0
PRODID:-//Foodtruck-Festivals - ECPv5.0.2//NONSGML v1.0//EN
CALSCALE:GREGORIAN
METHOD:PUBLISH
X-WR-CALNAME:Foodtruck-Festivals
X-ORIGINAL-URL:https://www.foodtruck-festivals.de
X-WR-CALDESC:Veranstaltungen im Foodtruck-Festivals
BEGIN:VTIMEZONE
TZID:Europe/Berlin
BEGIN:DAYLIGHT
TZOFFSETFROM:+0100
TZOFFSETTO:+0200
TZNAME:CEST
DTSTART:20260329T010000
END:DAYLIGHT
BEGIN:STANDARD
TZOFFSETFROM:+0200
TZOFFSETTO:+0100
TZNAME:CET
DTSTART:20261025T010000
END:STANDARD
END:VTIMEZONE
BEGIN:VEVENT
DTSTART;TZID=Europe/Berlin:20260613T120000
DTEND;TZID=Europe/Berlin:20260614T190000
DTSTAMP:20260422T101938
CREATED:20260405T105132Z
LAST-MODIFIED:20260405T105146Z
UID:2165-1781352000-1781463600@www.foodtruck-festivals.de
SUMMARY:Food Truck Festival Eichstätt 2026
DESCRIPTION:Mach dich bereit für ein kulinarisches Abenteuer der Extraklasse! Am 13. und 14. Juni verwandelt sich Anger in Eichstätt in das ultimative Foodtruck-Paradies – das Original Foodtruck Festival ist wieder am Start und bringt Streetfood aus aller Welt direkt zu dir. Neben den kulinarischen Highlights erwartet dich ein echtes Erlebnis! Genieße Live-Musik\, einen Familientag mit Henna Tattoos\, Kinderschminken mit Onirelia und eine große Hüpfburg – Spaß für die ganze Familie! Dazu eine Chillout-Area zum Relaxen\, coole Cocktails und vieles mehr.\n#foodtrucks #streetfood #entertainment #livemusik #party #food #drinks #festival \n📅 Öffnungszeiten\nSamstag\, 13.06.26 | 12-22 Uhr\nSonntag\, 14.06.26 | 12-19 Uhr\n🎟 Eintritt frei! 🎟\n__________________ \n🕺🏻LIVE BÜHNE 💃🏼\nIn diesem Jahr versorgen wir euch mit Live DJs und diversen regionalen Bands und Solokünstlern! \n🏰 KINDERPROGRAMM👩🏻‍🎤\nNatürlich kommen Familien auch jenseits der Delikatessen auf ihre Kosten. Kinder können sich auf der Hüpfburg oder Trampolinen austoben. Für Raubkatzen bieten wir unser Kinderschminken an\, Henna Tattoos sind dann nicht nur für die Kleinen\, sondern auch Erwachsene möglich. Kleine Überraschungen gehören hier natürlich dazu.\nEin Wochenende für Groß und Klein. \n
URL:https://www.foodtruck-festivals.de/event/food-truck-festival-eichstaett-2026/
LOCATION:Am Anger Eichstätt\, Am Anger\, Eichstätt\, 85072
ATTACH;FMTTYPE=image/jpeg:https://www.foodtruck-festivals.de/wp-content/uploads/2026/04/2026_Eichstädt_HP.jpg
END:VEVENT
END:VCALENDAR