BEGIN:VCALENDAR
VERSION:2.0
PRODID:-//Foodtruck-Festivals - ECPv5.0.2//NONSGML v1.0//EN
CALSCALE:GREGORIAN
METHOD:PUBLISH
X-WR-CALNAME:Foodtruck-Festivals
X-ORIGINAL-URL:https://www.foodtruck-festivals.de
X-WR-CALDESC:Veranstaltungen im Foodtruck-Festivals
BEGIN:VTIMEZONE
TZID:Europe/Berlin
BEGIN:DAYLIGHT
TZOFFSETFROM:+0100
TZOFFSETTO:+0200
TZNAME:CEST
DTSTART:20260329T010000
END:DAYLIGHT
BEGIN:STANDARD
TZOFFSETFROM:+0200
TZOFFSETTO:+0100
TZNAME:CET
DTSTART:20261025T010000
END:STANDARD
END:VTIMEZONE
BEGIN:VEVENT
DTSTART;TZID=Europe/Berlin:20260904T160000
DTEND;TZID=Europe/Berlin:20260906T190000
DTSTAMP:20260422T084738
CREATED:20260225T205104Z
LAST-MODIFIED:20260225T205814Z
UID:2131-1788537600-1788721200@www.foodtruck-festivals.de
SUMMARY:Food Truck Festival Bayreuth 2026
DESCRIPTION:Bayreuth\, mach dich bereit für ein kulinarisches Abenteuer der Extraklasse!Vom 04. bis 06. September verwandelt sich der Marktplatz in das ultimative Foodtruck-Paradies – das Original Foodtruck Festival ist wieder am Start und bringt Streetfood aus aller Welt direkt zu dir.#foodtrucks #streetfood #entertainment #livemusik #party #food #drinks #festivalÖffnungszeiten Freitag\, 04.09.26 | 16-22 Uhr Samstag\, 05.09.26 | 12-22 Uhr Sonntag\, 06.09.26 | 12-19 Uhr__________________\n\nLIVE BÜHNE In diesem Jahr versorgen wir euch mit Live DJs und diversen regionalen Bands und Solokünstlern!\n\n KINDERPROGRAMM Natürlich kommen Familien auch jenseits der Delikatessen auf ihre Kosten. Kinder können sich auf der Hüpfburg oder Trampolinen austoben. Für Raubkatzen bieten wir unser Kinderschminken an\, Henna Tattoos sind dann nicht nur für die Kleinen\, sondern auch Erwachsene möglich. Kleine Überraschungen gehören hier natürlich dazu.Ein Wochenende für Groß und Klein.\n\n
URL:https://www.foodtruck-festivals.de/event/food-truck-festival-bayreuth-2026/
LOCATION:Marktplatz Bayreuth\, Maximilianstraße\, Bayreuth\, 95444\, Deutschland
ATTACH;FMTTYPE=image/jpeg:https://www.foodtruck-festivals.de/wp-content/uploads/2026/02/2026_Bayreuth_HP.jpg
END:VEVENT
END:VCALENDAR